View In:
ArcGIS JavaScript
ArcGIS Online Map Viewer
ArcGIS Earth
Service Description: Die Blätter der geologische Manuskriptkarte 1:28.800 entstanden im Zuge der ersten Geologischen Landesaufnahme in den Jahren 1846 - 1898. Für die geologischen Aufnahmen wurden die topographischen Karten der Franziszeischen Landesaufnahme verwendet. Die Aufnahmeblätter existierten aber nur in einem einzigen Manuskript im Kriegsarchiv. Die Geologen mussten sich selbst die Topographie dieser Karten kopieren. Die Informationen zur Geologie wurden dann mit schwarzer Tusche und Aquarellfarben eingetragen. Häufig zeichneten die Geologen auch die Routen ihrer Begehungen mit roter Tusche in die Karte ein.
Literatur: Schnabel W, Matura A, Pistotnik J (1999) Geologische Landesaufnahme. In: Geologische Bundesanstalt (Hrsg) Die Geologische Bundesanstalt in Wien. 150 Jahre Geologie im Dienste Österreichs (1849-1999), Böhlau Verlag Ges.mb.H. & Co. KG, Wien, S. 186–193
Name: geologie/manuskript_hist_28800
Description: Die Blätter der geologische Manuskriptkarte 1:28.800 entstanden im Zuge der ersten Geologischen Landesaufnahme in den Jahren 1846 - 1898. Für die geologischen Aufnahmen wurden die topographischen Karten der Franziszeischen Landesaufnahme verwendet. Die Aufnahmeblätter existierten aber nur in einem einzigen Manuskript im Kriegsarchiv. Die Geologen mussten sich selbst die Topographie dieser Karten kopieren. Die Informationen zur Geologie wurden dann mit schwarzer Tusche und Aquarellfarben eingetragen. Häufig zeichneten die Geologen auch die Routen ihrer Begehungen mit roter Tusche in die Karte ein.
Literatur: Schnabel W, Matura A, Pistotnik J (1999) Geologische Landesaufnahme. In: Geologische Bundesanstalt (Hrsg) Die Geologische Bundesanstalt in Wien. 150 Jahre Geologie im Dienste Österreichs (1849-1999), Böhlau Verlag Ges.mb.H. & Co. KG, Wien, S. 186–193
Single Fused Map Cache: true
Tile Info:
- Height: 256
- Width: 256
- DPI: 96
-
Levels of Detail: 24
-
Level ID: 1
[ Start Tile, End Tile ]
- Resolution: 78271.5169639999
- Scale: 2.95828763795777E8
-
Level ID: 2
[ Start Tile, End Tile ]
- Resolution: 39135.7584820001
- Scale: 1.47914381897889E8
-
Level ID: 3
[ Start Tile, End Tile ]
- Resolution: 19567.8792409999
- Scale: 7.3957190948944E7
-
Level ID: 4
[ Start Tile, End Tile ]
- Resolution: 9783.93962049996
- Scale: 3.6978595474472E7
-
Level ID: 5
[ Start Tile, End Tile ]
- Resolution: 4891.96981024998
- Scale: 1.8489297737236E7
- Format: PNG8
- Compression Quality: 0.0
- LERC Error: NaN
- Origin: X: -2.0037508342787E7
Y: 2.0037508342787E7
- Spatial Reference: 102100
(3857)
LatestVCSWkid(0)
Storage Info:
- Storage Format: esriMapCacheStorageModeCompactV2
- Packet Size: 128
Extent:
XMin: 1063066.1590999998
YMin: 5874238.688865138
XMax: 1901872.9209261963
YMax: 6279017.1109
Spatial Reference: 102100
(3857)
LatestVCSWkid(0)
Initial Extent:
XMin: 1063066.1590999998
YMin: 5874238.688865138
XMax: 1901872.9209261963
YMax: 6279017.1109
Spatial Reference: 102100
(3857)
LatestVCSWkid(0)
Full Extent:
XMin: 1063066.1590999998
YMin: 5874238.688865138
XMax: 1901872.9209261963
YMax: 6279017.1109
Spatial Reference: 102100
(3857)
LatestVCSWkid(0)
Pixel Size X: 2.4598366627259054
Pixel Size Y: 2.4598366627259063
Band Count: 3
Pixel Type: U8
RasterFunction Infos: {"rasterFunctionInfos": [{
"name": "None",
"description": "",
"help": ""
}]}
Mensuration Capabilities:
Inspection Capabilities:
Has Histograms: true
Has Colormap: false
Has Multi Dimensions : false
Rendering Rule:
Min Scale: 3.6978595474472E7
Max Scale: 9027.977411
Min LOD: 4
Max LOD: 16
Copyright Text: ©GeoSphere Austria / CC BY 4.0
Service Data Type: esriImageServiceDataTypeRGB
Min Values: 0, 6, 0
Max Values: 254, 254, 254
Mean Values: 199.52575672610936, 180.6091908475351, 165.68777382905154
Standard Deviation Values: 46.57184018200971, 39.01524381637314, 34.148936801726855
Object ID Field: OBJECTID
Fields:
-
OBJECTID
(
type: esriFieldTypeOID, alias: OBJECTID
)
-
Shape
(
type: esriFieldTypeGeometry, alias: Shape
)
-
Name
(
type: esriFieldTypeString, alias: Name, length: 200
)
-
Category
(
type: esriFieldTypeInteger, alias: Category
, Coded Values:
[0: Unknown]
, [1: Primary]
, [2: Overview]
, ...6 more...
)
-
Shape_Area
(
type: esriFieldTypeDouble, alias: Shape_Area
)
Default Mosaic Method: Northwest
Allowed Mosaic Methods: NorthWest,Center,LockRaster,ByAttribute,Nadir,Viewpoint,Seamline,None
SortField:
SortValue: null
Mosaic Operator: First
Default Compression Quality: 75
Default Resampling Method: Bilinear
Max Record Count: 1000
Max Image Height: 4100
Max Image Width: 15000
Max Download Image Count: 20
Max Mosaic Image Count: 350
Allow Raster Function: true
Allow Copy: true
Allow Analysis: true
Allow Compute TiePoints: false
Supports Statistics: true
Supports Advanced Queries: true
Use StandardizedQueries: true
Raster Type Infos:
Name: Raster Dataset
Description: Supports all ArcGIS Raster Datasets
Help:
Has Raster Attribute Table: false
Edit Fields Info: null
Ownership Based AccessControl For Rasters: null
Child Resources:
Info
Histograms
Statistics
Key Properties
Legend
Raster Function Infos
Supported Operations:
Export Image
Query
Identify
Measure
Compute Histograms
Compute Statistics Histograms
Get Samples
Compute Class Statistics
Query GPS Info
Find Images
Image to Map
Map to Image
Measure from Image
Image to Map Multiray
Query Boundary
Compute Pixel Location
Compute Angles
Validate
Project