Die Blätter der geologische Manuskriptkarte 1:28.800 entstanden im Zuge der ersten Geologischen Landesaufnahme in den Jahren 1846 - 1898. Für die geologischen Aufnahmen wurden die topographischen Karten der Franziszeischen Landesaufnahme verwendet. Die Aufnahmeblätter existierten aber nur in einem einzigen Manuskript im Kriegsarchiv. Die Geologen mussten sich selbst die Topographie dieser Karten kopieren. Die Informationen zur Geologie wurden dann mit schwarzer Tusche und Aquarellfarben eingetragen. Häufig zeichneten die Geologen auch die Routen ihrer Begehungen mit roter Tusche in die Karte ein. <\/span><\/p>Literatur: <\/span>Schnabel W, Matura A, Pistotnik J (1999) Geologische Landesaufnahme. In: Geologische Bundesanstalt (Hrsg) Die Geologische Bundesanstalt in Wien. 150 Jahre Geologie im Dienste Österreichs (1849-1999), <\/span>Böhlau Verlag Ges.mb.H. & Co. KG, Wien, S. 186\u2013193<\/span><\/p><\/p><\/div><\/div><\/div>",
"serviceItemId": "aa48e21bc83e445e805d91b013234254",
"name": "geologie/manuskript_hist_28800",
"description": "
Die Blätter der geologische Manuskriptkarte 1:28.800 entstanden im Zuge der ersten Geologischen Landesaufnahme in den Jahren 1846 - 1898. Für die geologischen Aufnahmen wurden die topographischen Karten der Franziszeischen Landesaufnahme verwendet. Die Aufnahmeblätter existierten aber nur in einem einzigen Manuskript im Kriegsarchiv. Die Geologen mussten sich selbst die Topographie dieser Karten kopieren. Die Informationen zur Geologie wurden dann mit schwarzer Tusche und Aquarellfarben eingetragen. Häufig zeichneten die Geologen auch die Routen ihrer Begehungen mit roter Tusche in die Karte ein. <\/span><\/p>Literatur: <\/span>Schnabel W, Matura A, Pistotnik J (1999) Geologische Landesaufnahme. In: Geologische Bundesanstalt (Hrsg) Die Geologische Bundesanstalt in Wien. 150 Jahre Geologie im Dienste Österreichs (1849-1999), <\/span>Böhlau Verlag Ges.mb.H. & Co. KG, Wien, S. 186\u2013193<\/span><\/p><\/p><\/div><\/div><\/div>",
"extent": {
"xmin": 1063066.1590999998,
"ymin": 5874238.688865138,
"xmax": 1901872.9209261963,
"ymax": 6279017.1109,
"spatialReference": {
"wkid": 102100,
"latestWkid": 3857
}
},
"initialExtent": {
"xmin": 1063066.1590999998,
"ymin": 5874238.688865138,
"xmax": 1901872.9209261963,
"ymax": 6279017.1109,
"spatialReference": {
"wkid": 102100,
"latestWkid": 3857
}
},
"fullExtent": {
"xmin": 1063066.1590999998,
"ymin": 5874238.688865138,
"xmax": 1901872.9209261963,
"ymax": 6279017.1109,
"spatialReference": {
"wkid": 102100,
"latestWkid": 3857
}
},
"sortableFields": "Shape_Area",
"bandCount": 3,
"pixelType": "U8",
"minValues": [
0,
6,
0
],
"maxValues": [
254,
254,
254
],
"meanValues": [
199.52575672610936,
180.6091908475351,
165.68777382905154
],
"stdvValues": [
46.57184018200971,
39.01524381637314,
34.148936801726855
],
"serviceProperties": "NorthWest<\/MosaicMethod>First<\/MosaicOperator>true<\/SortAscending><\/LockImageID>Name<\/TileOrderField>0<\/TileOrderBase>600,000000<\/AvgImageSpacingX>300,000000<\/AvgImageSpacingY>0.0<\/ViewPointX>0.0<\/ViewPointY>0.0<\/ViewPointDefShiftX>0.0<\/ViewPointDefShiftY>None<\/CompressionMethod>75<\/CompressionQuality>0,010000<\/CompressionTolerance>Bilinear<\/SamplingMethod><\/ImageServiceProperties><\/ImageServer>",
"allowedFields": "Name,Shape_Area",
"hasMultidimensions": false,
"pixelSizeX": 2.4598366627259054,
"pixelSizeY": 2.4598366627259063,
"meanPixelSize": 2.459836662725906,
"datasetFormat": "AMD",
"uncompressedSize": 168340258665,
"blockWidth": 2048,
"blockHeight": 256,
"compressionType": "None",
"bandNames": [
"Band_1",
"Band_2",
"Band_3"
],
"allowCopy": true,
"allowAnalysis": true,
"itemAccess": false,
"inspectionCapabilities": "",
"noDataValue": 255,
"noDataValues": [
255,
255,
255
],
"minPixelSize": 2.3886571339746827,
"maxPixelSize": 9783.93962049995,
"copyrightText": "©GeoSphere Austria / CC BY 4.0",
"serviceDataType": "esriImageServiceDataTypeRGB",
"serviceSourceType": "esriImageServiceSourceTypeMosaicDataset",
"objectIdField": "OBJECTID",
"fields": [
{
"name": "OBJECTID",
"type": "esriFieldTypeOID",
"alias": "OBJECTID",
"domain": null
},
{
"name": "Shape",
"type": "esriFieldTypeGeometry",
"alias": "Shape",
"domain": null
},
{
"name": "Name",
"type": "esriFieldTypeString",
"alias": "Name",
"domain": null,
"length": 200
},
{
"name": "Category",
"type": "esriFieldTypeInteger",
"alias": "Category",
"domain": {
"type": "codedValue",
"name": "MosaicCatalogItemCategoryDomain",
"description": "Catalog item categories.",
"codedValues": [
{
"name": "Unknown",
"code": 0
},
{
"name": "Primary",
"code": 1
},
{
"name": "Overview",
"code": 2
},
{
"name": "Unprocessed Overview",
"code": 3
},
{
"name": "Partial Overview",
"code": 4
},
{
"name": "Inactive",
"code": 5
},
{
"name": "Uploaded",
"code": 253
},
{
"name": "Incomplete",
"code": 254
},
{
"name": "Custom",
"code": 255
}
],
"mergePolicy": "esriMPTDefaultValue",
"splitPolicy": "esriSPTDefaultValue"
}
},
{
"name": "Shape_Area",
"type": "esriFieldTypeDouble",
"alias": "Shape_Area",
"domain": null
}
],
"capabilities": "Catalog,Mensuration,Image,Metadata,TileMap",
"defaultMosaicMethod": "Northwest",
"allowedMosaicMethods": "NorthWest,Center,LockRaster,ByAttribute,Nadir,Viewpoint,Seamline,None",
"sortField": "",
"sortValue": null,
"sortAscending": true,
"mosaicOperator": "First",
"maxDownloadSizeLimit": 2048,
"defaultCompressionQuality": 75,
"defaultResamplingMethod": "Bilinear",
"maxImageHeight": 4100,
"maxImageWidth": 15000,
"maxRecordCount": 1000,
"maxDownloadImageCount": 20,
"maxMosaicImageCount": 350,
"singleFusedMapCache": true,
"tileInfo": {
"rows": 256,
"cols": 256,
"dpi": 96,
"format": "PNG8",
"compressionQuality": 0,
"origin": {
"x": -2.0037508342787E7,
"y": 2.0037508342787E7
},
"spatialReference": {
"wkid": 102100,
"latestWkid": 3857
},
"lods": [
{
"level": 0,
"resolution": 156543.033928,
"scale": 5.91657527591555E8
},
{
"level": 1,
"resolution": 78271.5169639999,
"scale": 2.95828763795777E8
},
{
"level": 2,
"resolution": 39135.7584820001,
"scale": 1.47914381897889E8
},
{
"level": 3,
"resolution": 19567.8792409999,
"scale": 7.3957190948944E7
},
{
"level": 4,
"resolution": 9783.93962049996,
"scale": 3.6978595474472E7
},
{
"level": 5,
"resolution": 4891.96981024998,
"scale": 1.8489297737236E7
},
{
"level": 6,
"resolution": 2445.98490512499,
"scale": 9244648.868618
},
{
"level": 7,
"resolution": 1222.99245256249,
"scale": 4622324.434309
},
{
"level": 8,
"resolution": 611.49622628138,
"scale": 2311162.217155
},
{
"level": 9,
"resolution": 305.748113140558,
"scale": 1155581.108577
},
{
"level": 10,
"resolution": 152.874056570411,
"scale": 577790.554289
},
{
"level": 11,
"resolution": 76.4370282850732,
"scale": 288895.277144
},
{
"level": 12,
"resolution": 38.2185141425366,
"scale": 144447.638572
},
{
"level": 13,
"resolution": 19.1092570712683,
"scale": 72223.819286
},
{
"level": 14,
"resolution": 9.55462853563415,
"scale": 36111.909643
},
{
"level": 15,
"resolution": 4.77731426794937,
"scale": 18055.954822
},
{
"level": 16,
"resolution": 2.38865713397468,
"scale": 9027.977411
},
{
"level": 17,
"resolution": 1.19432856685505,
"scale": 4513.988705
},
{
"level": 18,
"resolution": 0.597164283559817,
"scale": 2256.994353
},
{
"level": 19,
"resolution": 0.298582141647617,
"scale": 1128.497176
},
{
"level": 20,
"resolution": 0.14929107082380833,
"scale": 564.248588
},
{
"level": 21,
"resolution": 0.07464553541190416,
"scale": 282.124294
},
{
"level": 22,
"resolution": 0.03732276770595208,
"scale": 141.062147
},
{
"level": 23,
"resolution": 0.01866138385297604,
"scale": 70.5310735
}
]
},
"storageInfo": {
"storageFormat": "esriMapCacheStorageModeCompactV2",
"packetSize": 128
},
"cacheType": "Map",
"allowRasterFunction": true,
"rasterFunctionInfos": [
{
"name": "None",
"description": "",
"help": ""
}
],
"rasterTypeInfos": [
{
"name": "Raster Dataset",
"description": "Supports all ArcGIS Raster Datasets",
"help": ""
}
],
"mensurationCapabilities": "",
"hasHistograms": true,
"hasColormap": false,
"hasRasterAttributeTable": false,
"minScale": 3.6978595474472E7,
"maxScale": 9027.977411,
"minLOD": 4,
"maxLOD": 16,
"exportTilesAllowed": false,
"supportsStatistics": true,
"supportsAdvancedQueries": true,
"editFieldsInfo": null,
"ownershipBasedAccessControlForRasters": null,
"allowComputeTiePoints": false,
"useStandardizedQueries": true,
"advancedQueryCapabilities": {
"useStandardizedQueries": true,
"supportsStatistics": true,
"supportsOrderBy": true,
"supportsDistinct": true,
"supportsPagination": true
},
"spatialReference": {
"wkid": 102100,
"latestWkid": 3857
}
}