View In:
ArcGIS JavaScript
Default Map Viewer
ArcGIS Earth
ArcGIS Pro
Service Description: <div>The display service provides information on the geological structure of Salzburg on a scale of 1:200,000. The display of layers is supported up to a scale of around 1:36,000. However, it should be noted that the geological content and location accuracies presented in this service are not suitable for large-scale applications and detailed analysis. Due to the leaf cut, parts of neighboring federal states and foreign parts are also covered. The published data corresponds to the current state of knowledge at the time the map was printed and may contain minor deviations that may be caused by error corrections or updates to the original data.<br /></div><div><br /></div><div><b>Adresses of Services</b></div><div>REST: https://gis.geosphere.at/maps/rest/services/geologie/szbg_200/MapServer</div><div>WMS: https://gis.geosphere.at/maps/services/geologie/szbg_200/MapServer/WMSServer</div><div>WMTS: https://gis.geosphere.at/maps/rest/services/geologie/szbg_200/MapServer/WMTS</div><div>OGC Feature Layer: https://gis.geosphere.at/maps/rest/services/geologie/szbg_200/OGCFeatureServer</div><div><br /></div><div><div><b>Additional Ressources</b></div><div><a href='https://doi.tethys.at/10.24341/tethys.190' target='_blank'>Download</a> the data from Tethys</div><div><a href='https://bibliothek.geosphere.at/cgi-bin/koha/opac-detail.pl?biblionumber=682358' target='_blank'>Link</a> to the entry of the map in the library</div></div><div><br /></div><div style='font-size:1.414rem;'>Beschreibung</div><div><br /></div>Der Darstellungsdienst stellt Informationen zum geologischen Aufbau von Salzburg im Maßstab 1:200.000 bereit. Die Anzeige der Layer wird bis zu einem Maßstab von rund 1:36.000 unterstützt. Es ist jedoch zu beachten, dass die in diesem Dienst präsentierten geologischen Inhalte und Lagegenauigkeiten, nicht für großmaßstäbige Anwendungen und detaillierte Analysen geeignet sind. Bedingt durch den Blattschnitt, werden auch Teile angrenzender Bundesländer und Auslandsanteile abgedeckt. Die publizierten Daten entsprechen dem jeweils aktuellen Kenntnisstand zum Zeitpunkt des Kartendrucks und können geringfügige Abweichungen aufweisen, die durch Fehlerkorrekturen oder Aktualisierungen der Originaldaten verursacht sein können.<div><br /></div><div><div><b>Adressen der Services</b></div><div>REST: https://gis.geosphere.at/maps/rest/services/geologie/szbg_200/MapServer</div><div>WMS: https://gis.geosphere.at/maps/services/geologie/szbg_200/MapServer/WMSServer</div><div>WMTS: https://gis.geosphere.at/maps/rest/services/geologie/szbg_200/MapServer/WMTS</div><div>OGC Feature Layer: https://gis.geosphere.at/maps/rest/services/geologie/szbg_200/OGCFeatureServer</div></div><div><br /></div><div><div><b>Zusätzliche Ressourcen</b><br /></div><div><a href='https://doi.tethys.at/10.24341/tethys.190' target='_blank'>Download</a> der Daten von Tethys</div><div><a href='https://bibliothek.geosphere.at/cgi-bin/koha/opac-detail.pl?biblionumber=682358' target='_blank'>Link</a> zum Bibliothekseintrag</div></div>
Map Name: gd200_szbg
Legend
All Layers and Tables
Dynamic Legend
Dynamic All Layers
Layers:
Description: The display service provides information on the geological structure of Salzburg on a scale of 1:200,000. The display of layers is supported up to a scale of around 1:36,000. However, it should be noted that the geological content and location accuracies presented in this service are not suitable for large-scale applications and detailed analysis. Due to the leaf cut, parts of neighboring federal states and foreign parts are also covered. The published data corresponds to the current state of knowledge at the time the map was printed and may contain minor deviations that may be caused by error corrections or updates to the original data.Adresses of ServicesREST: https://gis.geosphere.at/maps/rest/services/geologie/szbg_200/MapServerWMS: https://gis.geosphere.at/maps/services/geologie/szbg_200/MapServer/WMSServerWMTS: https://gis.geosphere.at/maps/rest/services/geologie/szbg_200/MapServer/WMTSOGC Feature Layer: https://gis.geosphere.at/maps/rest/services/geologie/szbg_200/OGCFeatureServerAdditional RessourcesDownload the data from TethysLink to the entry of the map in the libraryBeschreibungDer Darstellungsdienst stellt Informationen zum geologischen Aufbau von Salzburg im Maßstab 1:200.000 bereit. Die Anzeige der Layer wird bis zu einem Maßstab von rund 1:36.000 unterstützt. Es ist jedoch zu beachten, dass die in diesem Dienst präsentierten geologischen Inhalte und Lagegenauigkeiten, nicht für großmaßstäbige Anwendungen und detaillierte Analysen geeignet sind. Bedingt durch den Blattschnitt, werden auch Teile angrenzender Bundesländer und Auslandsanteile abgedeckt. Die publizierten Daten entsprechen dem jeweils aktuellen Kenntnisstand zum Zeitpunkt des Kartendrucks und können geringfügige Abweichungen aufweisen, die durch Fehlerkorrekturen oder Aktualisierungen der Originaldaten verursacht sein können.Adressen der ServicesREST: https://gis.geosphere.at/maps/rest/services/geologie/szbg_200/MapServerWMS: https://gis.geosphere.at/maps/services/geologie/szbg_200/MapServer/WMSServerWMTS: https://gis.geosphere.at/maps/rest/services/geologie/szbg_200/MapServer/WMTSOGC Feature Layer: https://gis.geosphere.at/maps/rest/services/geologie/szbg_200/OGCFeatureServerZusätzliche RessourcenDownload der Daten von TethysLink zum Bibliothekseintrag
Service Item Id: e8d2542766f847de9b6fe5f9b5bcc029
Copyright Text: GeoSphere Austria
Spatial Reference:
102100
(3857)
LatestVCSWkid(0)
Single Fused Map Cache: true
Tile Info:
- Height: 256.0
- Width: 256.0
- DPI: 96.0
-
Levels of Detail: 24
-
Level ID: 1
[ Start Tile, End Tile ]
- Resolution: 78271.5169639999
- Scale: 2.95828763795777E8
-
Level ID: 2
[ Start Tile, End Tile ]
- Resolution: 39135.7584820001
- Scale: 1.47914381897889E8
-
Level ID: 3
[ Start Tile, End Tile ]
- Resolution: 19567.8792409999
- Scale: 7.3957190948944E7
-
Level ID: 4
[ Start Tile, End Tile ]
- Resolution: 9783.93962049996
- Scale: 3.6978595474472E7
-
Level ID: 5
[ Start Tile, End Tile ]
- Resolution: 4891.96981024998
- Scale: 1.8489297737236E7
- Format: PNG
- Compression Quality: 0.0
- Origin: X: -2.0037508342787E7
Y: 2.0037508342787E7
- Spatial Reference: 102100
(3857)
LatestVCSWkid(0)
Storage Info:
- Storage Format: esriMapCacheStorageModeCompactV2
- Packet Size: 128
Initial Extent:
XMin: 1251882.6545039094
YMin: 5849873.863620794
XMax: 1652065.2041960903
YMax: 6200101.101779201
Spatial Reference: 102100
(0)
LatestVCSWkid(0)
Full Extent:
XMin: 1333031.9688999988
YMin: 5923051.644299999
XMax: 1570915.889800001
YMax: 6126923.321099997
Spatial Reference: 102100
(0)
LatestVCSWkid(0)
Units: esriMeters
Supported Image Format Types: PNG32,PNG24,PNG,JPG,DIB,TIFF,EMF,PS,PDF,GIF,SVG,SVGZ,BMP
Document Info:
Title: Darstellungsdienst Salzburg 1:200.000 - Geologie (GD200-SZBG)
Author:
Comments: Der Darstellungsdienst stellt Informationen zum geologischen Aufbau von Salzburg im Maßstab 1:200.000 bereit. Die Anzeige der Layer wird bis zu einem Maßstab von rund 1:36.000 unterstützt. Es ist jedoch zu beachten, dass die in diesem Dienst präsentierten geologischen Inhalte und Lagegenauigkeiten, nicht für großmaßstäbige Anwendungen und detaillierte Analysen geeignet sind. Bedingt durch den Blattschnitt, werden auch Teile angrenzender Bundesländer und Auslandsanteile abgedeckt. Die publizierten Daten entsprechen dem jeweils aktuellen Kenntnisstand zum Zeitpunkt des Kartendrucks und können geringfügige Abweichungen aufweisen, die durch Fehlerkorrekturen oder Aktualisierungen der Originaldaten verursacht sein können.
Subject: Geologie von Salzburg 1:200.000 mit Anteilen der angrenzenden Bundesländer und Staatsgebiete.
Category:
Keywords: Kartenservice,GD200,Salzburg,Bundesländer,Geochronologie,Stratigraphie (Kategorie),Lithologie (Kategorie),Tektonik,Kartendienst,Darstellungsdienst,Geowissenschaften,Geologie,Regional,Dienst für den Zugriff auf grafische Darstellungen,Dienst für geografische Visualisierung
AntialiasingMode: Fast
TextAntialiasingMode: Force
Supports Dynamic Layers: true
Resampling: false
MaxRecordCount: 2000
MaxSelectionCount: 2000
MaxImageHeight: 4096
MaxImageWidth: 4096
Supported Query Formats: JSON, geoJSON, PBF
Supports Query Data Elements: true
Min Scale: 3.6978595474472E7
Max Scale: 36111.909643
Min LOD: 4
Max LOD: 14
Supports Datum Transformation: true
Child Resources:
Info
Dynamic Layer
Supported Operations:
Export Map
Identify
QueryLegends
QueryDomains
Find
Return Updates