View In:
ArcGIS JavaScript
Default Map Viewer
ArcGIS Earth
ArcGIS Pro
Service Description:
Map Name: geofast_50_info
Legend
All Layers and Tables
Dynamic Legend
Dynamic All Layers
Layers:
Description: Der Dienst bietet zusätzliche Informationen zum Kartenservice "Provisorische geologische Karten im Maßstab 1:50.000 (GEOFAST)" an. Basierend auf den Polygonen der planaren Ebene Geologie sind Legendentext und Legendennummer zu den Kartenblättern abfragbar. Zusätzlich gibt es weiterführende Links, zum Beispiel zum Download der Daten aus TETHYS RDR, sowie die Möglichkeit zum Download der Karte als Bild.
Service Item Id: a661358a56b84fe7ac744fcac28bcf15
Copyright Text: ©GeoSphere Austria
Spatial Reference:
102100
(3857)
LatestVCSWkid(0)
Single Fused Map Cache: true
Tile Info:
- Height: 256.0
- Width: 256.0
- DPI: 96.0
-
Levels of Detail: 24
-
Level ID: 1
[ Start Tile, End Tile ]
- Resolution: 78271.5169639999
- Scale: 2.95828763795777E8
-
Level ID: 2
[ Start Tile, End Tile ]
- Resolution: 39135.7584820001
- Scale: 1.47914381897889E8
-
Level ID: 3
[ Start Tile, End Tile ]
- Resolution: 19567.8792409999
- Scale: 7.3957190948944E7
-
Level ID: 4
[ Start Tile, End Tile ]
- Resolution: 9783.93962049996
- Scale: 3.6978595474472E7
-
Level ID: 5
[ Start Tile, End Tile ]
- Resolution: 4891.96981024998
- Scale: 1.8489297737236E7
- Format: PNG
- Compression Quality: 0.0
- Origin: X: -2.0037508342787E7
Y: 2.0037508342787E7
- Spatial Reference: 102100
(3857)
LatestVCSWkid(0)
Storage Info:
- Storage Format: esriMapCacheStorageModeCompactV2
- Packet Size: 128
Initial Extent:
XMin: 1218203.6447499185
YMin: 5757829.008790238
XMax: 1787769.8032331737
YMax: 6263047.234864697
Spatial Reference: 102100
(0)
LatestVCSWkid(0)
Full Extent:
XMin: 1094612.8861999996
YMin: 5860781.416500002
XMax: 1887672.5471
YMax: 6278382.1065
Spatial Reference: 102100
(0)
LatestVCSWkid(0)
Units: esriMeters
Supported Image Format Types: PNG32,PNG24,PNG,JPG,DIB,TIFF,EMF,PS,PDF,GIF,SVG,SVGZ,BMP
Document Info:
Title: geofast_50_info
Author:
Comments: Der Dienst bietet zusätzliche Informationen zum Kartenservice "Provisorische geologische Karten im Maßstab 1:50.000 (GEOFAST)" an. Basierend auf den Polygonen der planaren Ebene Geologie sind Legendentext und Legendennummer zu den Kartenblättern abfragbar. Zusätzlich gibt es weiterführende Links, zum Beispiel zum Download der Daten aus TETHYS RDR, sowie die Möglichkeit zum Download der Karte als Bild.
Subject: Weiterführende Informationen zu den gescannten Kartenblättern GEOFAST
Category:
Keywords: Geologie
AntialiasingMode: Fast
TextAntialiasingMode: Force
Supports Dynamic Layers: true
MaxRecordCount: 2000
MaxSelectionCount: 2000
MaxImageHeight: 4096
MaxImageWidth: 4096
Supported Query Formats: JSON, geoJSON, PBF
Supports Query Data Elements: true
Min Scale: 3.6978595474472E7
Max Scale: 18055.954822
Min LOD: 4
Max LOD: 15
Supports Datum Transformation: true
Child Resources:
Info
Dynamic Layer
Supported Operations:
Export Map
Identify
QueryLegends
QueryDomains
Find
Return Updates