View In:
ArcGIS JavaScript
ArcGIS Online Map Viewer
ArcGIS Earth
Service Description: geologie/manuskript_historisch_75
Name: geologie/manuskript_historisch_75
Description:
Single Fused Map Cache: true
Tile Info:
- Height: 256
- Width: 256
- DPI: 96
-
Levels of Detail: 24
-
Level ID: 1
[ Start Tile, End Tile ]
- Resolution: 78271.5169639999
- Scale: 2.95828763795777E8
-
Level ID: 2
[ Start Tile, End Tile ]
- Resolution: 39135.7584820001
- Scale: 1.47914381897889E8
-
Level ID: 3
[ Start Tile, End Tile ]
- Resolution: 19567.8792409999
- Scale: 7.3957190948944E7
-
Level ID: 4
[ Start Tile, End Tile ]
- Resolution: 9783.93962049996
- Scale: 3.6978595474472E7
-
Level ID: 5
[ Start Tile, End Tile ]
- Resolution: 4891.96981024998
- Scale: 1.8489297737236E7
- Format: PNG8
- Compression Quality: 0.0
- LERC Error: NaN
- Origin: X: -2.0037508342787E7
Y: 2.0037508342787E7
- Spatial Reference: 102100
(3857)
LatestVCSWkid(0)
Storage Info:
- Storage Format: esriMapCacheStorageModeCompactV2
- Packet Size: 128
Extent:
XMin: 1056658.7426999994
YMin: 5270963.278700007
XMax: 2993618.7426999914
YMax: 6629838.278700002
Spatial Reference: 102100
(3857)
LatestVCSWkid(0)
Initial Extent:
XMin: 1056658.7426999994
YMin: 5270963.278700007
XMax: 2993618.7426999914
YMax: 6629838.278700002
Spatial Reference: 102100
(3857)
LatestVCSWkid(0)
Full Extent:
XMin: 1056658.7426999994
YMin: 5270963.278700007
XMax: 2993618.7426999914
YMax: 6629838.278700002
Spatial Reference: 102100
(3857)
LatestVCSWkid(0)
Pixel Size X: 4.99999999999998
Pixel Size Y: 4.99999999999998
Band Count: 3
Pixel Type: U8
RasterFunction Infos: {"rasterFunctionInfos": [{
"name": "None",
"description": "A No-Op Function.",
"help": ""
}]}
Mensuration Capabilities: Basic
Inspection Capabilities:
Has Histograms: true
Has Colormap: false
Has Multi Dimensions : false
Rendering Rule:
Min Scale: 3.6978595474472E7
Max Scale: 36111.909643
Min LOD: 4
Max LOD: 14
Copyright Text:
Service Data Type: esriImageServiceDataTypeProcessed
Min Values: 25, 9, 0
Max Values: 255, 255, 255
Mean Values: 172.8954350535495, 152.0364657048078, 126.50599928177462
Standard Deviation Values: 34.21143042092143, 33.81054962146514, 31.097504638426535
Object ID Field: OBJECTID
Fields:
-
OBJECTID
(
type: esriFieldTypeOID, alias: OBJECTID
)
-
Shape
(
type: esriFieldTypeGeometry, alias: Shape
)
-
Name
(
type: esriFieldTypeString, alias: Name, length: 200
)
-
Category
(
type: esriFieldTypeInteger, alias: Category
, Coded Values:
[0: Unknown]
, [1: Primary]
, [2: Overview]
, ...6 more...
)
-
Nummer
(
type: esriFieldTypeInteger, alias: Nummer
)
-
Titel
(
type: esriFieldTypeString, alias: Titel, length: 255
)
-
Herausgabejahr
(
type: esriFieldTypeString, alias: Herausgabejahr, length: 50
)
-
Massstab
(
type: esriFieldTypeInteger, alias: Massstab
)
-
Autor
(
type: esriFieldTypeString, alias: Autor, length: 255
)
-
LINK_Thumb
(
type: esriFieldTypeString, alias: LINK_Thumb, length: 255
)
-
LINK_BMS
(
type: esriFieldTypeString, alias: LINK_BMS, length: 255
)
-
BMS_Sig
(
type: esriFieldTypeString, alias: BMS_Sig, length: 255
)
Default Mosaic Method: Northwest
Allowed Mosaic Methods: NorthWest,Center,LockRaster,ByAttribute,Nadir,Viewpoint,Seamline,None
SortField:
SortValue: null
Mosaic Operator: First
Default Compression Quality: 75
Default Resampling Method: Bilinear
Max Record Count: 1000
Max Image Height: 4100
Max Image Width: 15000
Max Download Image Count: 20
Max Mosaic Image Count: 50
Allow Raster Function: true
Allow Copy: true
Allow Analysis: true
Allow Compute TiePoints: false
Supports Statistics: true
Supports Advanced Queries: true
Use StandardizedQueries: true
Raster Type Infos:
Name: Raster Dataset
Description: Supports all ArcGIS Raster Datasets
Help:
Has Raster Attribute Table: false
Edit Fields Info: null
Ownership Based AccessControl For Rasters: null
Child Resources:
Info
Histograms
Statistics
Key Properties
Legend
Raster Function Infos
Supported Operations:
Export Image
Query
Identify
Measure
Compute Histograms
Compute Statistics Histograms
Get Samples
Compute Class Statistics
Query GPS Info
Find Images
Image to Map
Map to Image
Measure from Image
Image to Map Multiray
Query Boundary
Compute Pixel Location
Compute Angles
Validate
Project