<?xml version="1.0" encoding="UTF-8" standalone="no"?>
<metadata xml:lang="de">
<Esri>
<CreaDate>20230215</CreaDate>
<CreaTime>15312800</CreaTime>
<ArcGISFormat>1.0</ArcGISFormat>
<SyncOnce>FALSE</SyncOnce>
<DataProperties>
<itemProps>
<itemName Sync="TRUE">karte_50</itemName>
<itemLocation>
<linkage Sync="TRUE">file://\\gis-im01\IM01_Daten\McDatasets_IM01.gdb</linkage>
<protocol Sync="TRUE">Local Area Network</protocol>
</itemLocation>
<nativeExtBox>
<westBL Sync="TRUE">1055685.862487</westBL>
<eastBL Sync="TRUE">1911756.862487</eastBL>
<southBL Sync="TRUE">5856940.102905</southBL>
<northBL Sync="TRUE">6275077.102905</northBL>
<exTypeCode Sync="TRUE">1</exTypeCode>
</nativeExtBox>
</itemProps>
<coordRef>
<type Sync="TRUE">Projected</type>
<geogcsn Sync="TRUE">GCS_WGS_1984</geogcsn>
<csUnits Sync="TRUE">Linear Unit: Meter (1.000000)</csUnits>
<projcsn Sync="TRUE">WGS_1984_Web_Mercator_Auxiliary_Sphere</projcsn>
<peXml Sync="TRUE">&lt;ProjectedCoordinateSystem xsi:type='typens:ProjectedCoordinateSystem' xmlns:xsi='http://www.w3.org/2001/XMLSchema-instance' xmlns:xs='http://www.w3.org/2001/XMLSchema' xmlns:typens='http://www.esri.com/schemas/ArcGIS/3.1.0'&gt;&lt;WKT&gt;PROJCS[&amp;quot;WGS_1984_Web_Mercator_Auxiliary_Sphere&amp;quot;,GEOGCS[&amp;quot;GCS_WGS_1984&amp;quot;,DATUM[&amp;quot;D_WGS_1984&amp;quot;,SPHEROID[&amp;quot;WGS_1984&amp;quot;,6378137.0,298.257223563]],PRIMEM[&amp;quot;Greenwich&amp;quot;,0.0],UNIT[&amp;quot;Degree&amp;quot;,0.0174532925199433]],PROJECTION[&amp;quot;Mercator_Auxiliary_Sphere&amp;quot;],PARAMETER[&amp;quot;False_Easting&amp;quot;,0.0],PARAMETER[&amp;quot;False_Northing&amp;quot;,0.0],PARAMETER[&amp;quot;Central_Meridian&amp;quot;,0.0],PARAMETER[&amp;quot;Standard_Parallel_1&amp;quot;,0.0],PARAMETER[&amp;quot;Auxiliary_Sphere_Type&amp;quot;,0.0],UNIT[&amp;quot;Meter&amp;quot;,1.0],AUTHORITY[&amp;quot;EPSG&amp;quot;,3857]]&lt;/WKT&gt;&lt;XOrigin&gt;-20037700&lt;/XOrigin&gt;&lt;YOrigin&gt;-30241100&lt;/YOrigin&gt;&lt;XYScale&gt;148923141.92838538&lt;/XYScale&gt;&lt;ZOrigin&gt;-100000&lt;/ZOrigin&gt;&lt;ZScale&gt;10000&lt;/ZScale&gt;&lt;MOrigin&gt;-100000&lt;/MOrigin&gt;&lt;MScale&gt;10000&lt;/MScale&gt;&lt;XYTolerance&gt;0.001&lt;/XYTolerance&gt;&lt;ZTolerance&gt;0.001&lt;/ZTolerance&gt;&lt;MTolerance&gt;0.001&lt;/MTolerance&gt;&lt;HighPrecision&gt;true&lt;/HighPrecision&gt;&lt;WKID&gt;102100&lt;/WKID&gt;&lt;LatestWKID&gt;3857&lt;/LatestWKID&gt;&lt;/ProjectedCoordinateSystem&gt;</peXml>
</coordRef>
<RasterProperties>
<General>
<PixelDepth Sync="TRUE">8</PixelDepth>
<HasColormap Sync="TRUE">FALSE</HasColormap>
<CompressionType Sync="TRUE">None</CompressionType>
<NumBands Sync="TRUE">3</NumBands>
<Format Sync="TRUE">AMD</Format>
<HasPyramids Sync="TRUE">TRUE</HasPyramids>
<SourceType Sync="TRUE">continuous</SourceType>
<PixelType Sync="TRUE">unsigned integer</PixelType>
<NoDataValue Sync="TRUE"/>
</General>
<Properties>
<MaxImageHeight Sync="TRUE">4100</MaxImageHeight>
<MaxImageWidth Sync="TRUE">15000</MaxImageWidth>
<MaxRecordCount Sync="TRUE">1000</MaxRecordCount>
<MaxDownloadImageCount Sync="TRUE">20</MaxDownloadImageCount>
<MaxDownloadSizeLimit Sync="TRUE">2048</MaxDownloadSizeLimit>
<MaxMosaicImageCount Sync="TRUE">100</MaxMosaicImageCount>
<DefaultCompressionQuality Sync="TRUE">75</DefaultCompressionQuality>
<DefaultCompressionTolerance Sync="TRUE">0,01</DefaultCompressionTolerance>
<BlendWidth Sync="TRUE">10</BlendWidth>
<ViewpointSpacingX Sync="TRUE">600</ViewpointSpacingX>
<ViewpointSpacingY Sync="TRUE">300</ViewpointSpacingY>
<AllowedItemMetadata Sync="TRUE">Basic</AllowedItemMetadata>
<DefaultResamplingMethod Sync="TRUE">1</DefaultResamplingMethod>
<AllowedMosaicMethods Sync="TRUE">NorthWest,Center,LockRaster,ByAttribute,Nadir,Viewpoint,Seamline,None</AllowedMosaicMethods>
<AllowedCompressions Sync="TRUE">None,JPEG,LZ77,LERC</AllowedCompressions>
<AllowedMensurationCapabilities Sync="TRUE">Basic</AllowedMensurationCapabilities>
<AvailableMensurationCapabilities Sync="TRUE">None,Basic,Base-Top Height,Top-Top Shadow Height,Base-Top Shadow Height,3D</AvailableMensurationCapabilities>
<ClipToBoundary Sync="TRUE">-1</ClipToBoundary>
<FootprintMayContainNoData Sync="TRUE">-1</FootprintMayContainNoData>
<CellSizeTolerance Sync="TRUE">0,8</CellSizeTolerance>
<MinimumPixelContribution Sync="TRUE">1</MinimumPixelContribution>
<AvailableMosaicMethods Sync="TRUE">NorthWest,Center,LockRaster,ByAttribute,Nadir,Viewpoint,Seamline,None</AvailableMosaicMethods>
<AvailableCompressionMethods Sync="TRUE">None,JPEG,LZ77,LERC</AvailableCompressionMethods>
<AvailableItemMetadataLevels Sync="TRUE">None,Basic,Full</AvailableItemMetadataLevels>
<BandDefinitionKeyword Sync="TRUE">NONE</BandDefinitionKeyword>
<_docversion_ Sync="TRUE">10</_docversion_>
<AllowedFields Sync="TRUE">Name,Shape_Length,Shape_Area,Thumbnail</AllowedFields>
<MaxCellSize Sync="TRUE">97200</MaxCellSize>
<LowCellSize Sync="TRUE">3</LowCellSize>
<HighCellSize Sync="TRUE">1944</HighCellSize>
<PixelCacheLocation Sync="TRUE">C:\Users\reijoh\AppData\Local\ESRI\rasterproxies\karte_50</PixelCacheLocation>
<AvailableFields Sync="TRUE">Name,MinPS,MaxPS,LowPS,HighPS,Tag,GroupName,ProductName,CenterX,CenterY,ZOrder,Shape_Length,Shape_Area,Thumbnail</AvailableFields>
<SortableFields Sync="TRUE">MinPS,MaxPS,LowPS,HighPS,CenterX,CenterY,ZOrder,Shape_Length,Shape_Area</SortableFields>
<SortAscending Sync="TRUE">-1</SortAscending>
<MosaicOperator Sync="TRUE">1</MosaicOperator>
<BlendWidthUnits Sync="TRUE">1</BlendWidthUnits>
<ClipToFootprint Sync="TRUE">0</ClipToFootprint>
<ClipOverviewsToFootprint Sync="TRUE">0</ClipOverviewsToFootprint>
<HasDodgingTable Sync="TRUE">0</HasDodgingTable>
<ApplyColorCorrection Sync="TRUE">0</ApplyColorCorrection>
<UseTime Sync="TRUE">0</UseTime>
<StartTimeFieldName Sync="TRUE"/>
<EndTimeFieldName Sync="TRUE"/>
<TimeValueFormat Sync="TRUE"/>
<UseRange Sync="TRUE">0</UseRange>
<TimeInterval Sync="TRUE"/>
<TimeIntervalUnits Sync="TRUE"/>
</Properties>
<Functions Sync="TRUE">
<Function Description="Performs on-the-fly mosaic on a raster catalog." Name="Mosaic Function"/>
</Functions>
</RasterProperties>
<lineage>
<Process Date="20240515" Time="153137" ToolSource="c:\arcgis\pro\Resources\ArcToolbox\toolboxes\Data Management Tools.tbx\AddRastersToMosaicDataset">AddRastersToMosaicDataset \\gis-im01\IM01_Daten\McDatasets_IM01.gdb\karte_50 "Raster Dataset" \\gis-im01\IM01_Daten\GeoRaster\GedruckteKarten_GK50_KartenfeldEPSG3857\NM331213_HollabrunnSuedost.tif;\\gis-im01\IM01_Daten\GeoRaster\GedruckteKarten_GK50_KartenfeldEPSG3857\NM331213_HollabrunnSuedwest.tif UPDATE_CELL_SIZES UPDATE_BOUNDARY NO_OVERVIEWS # 0 1500 "PROJCS["WGS_1984_Web_Mercator_Auxiliary_Sphere",GEOGCS["GCS_WGS_1984",DATUM["D_WGS_1984",SPHEROID["WGS_1984",6378137.0,298.257223563]],PRIMEM["Greenwich",0.0],UNIT["Degree",0.0174532925199433]],PROJECTION["Mercator_Auxiliary_Sphere"],PARAMETER["False_Easting",0.0],PARAMETER["False_Northing",0.0],PARAMETER["Central_Meridian",0.0],PARAMETER["Standard_Parallel_1",0.0],PARAMETER["Auxiliary_Sphere_Type",0.0],UNIT["Meter",1.0]];-20037700 -30241100 10000;-100000 10000;-100000 10000;0.001;0.001;0.001;IsHighPrecision" # NO_SUBFOLDERS "Exclude duplicates" NO_PYRAMIDS CALCULATE_STATISTICS BUILD_THUMBNAILS # NO_FORCE_SPATIAL_REFERENCE ESTIMATE_STATISTICS # NO_PIXEL_CACHE C:\Users\reijoh\AppData\Local\ESRI\rasterproxies\karte_50</Process>
<Process Date="20250911" Time="152209" ToolSource="c:\arcgis\pro\Resources\ArcToolbox\toolboxes\Data Management Tools.tbx\AddRastersToMosaicDataset">AddRastersToMosaicDataset \\gis-im01\IM01_Daten\McDatasets_IM01.gdb\karte_50 "Raster Dataset" \\gis-im01\IM01_Daten\GeoRaster\GedruckteKarten_GK50_KartenfeldEPSG3857\gk130_131_Oberzeiring_Kalwang.tif UPDATE_CELL_SIZES UPDATE_BOUNDARY NO_OVERVIEWS # 0 1500 # # SUBFOLDERS OVERWRITE_DUPLICATES NO_PYRAMIDS CALCULATE_STATISTICS BUILD_THUMBNAILS # NO_FORCE_SPATIAL_REFERENCE ESTIMATE_STATISTICS # NO_PIXEL_CACHE C:\Users\reijoh\AppData\Local\ESRI\rasterproxies\karte_50</Process>
</lineage>
</DataProperties>
<SyncDate>20230508</SyncDate>
<SyncTime>10342900</SyncTime>
<ModDate>20230508</ModDate>
<ModTime>10342900</ModTime>
</Esri>
<dataIdInfo>
<envirDesc Sync="TRUE">Microsoft Windows 10 Version 10.0 (Build 19045) ; Esri ArcGIS 13.1.0.41833</envirDesc>
<dataLang>
<languageCode Sync="TRUE" value="deu"/>
<countryCode Sync="TRUE" value="DEU"/>
</dataLang>
<idCitation>
<resTitle Sync="TRUE">Geologische Karte 1:25.000 und 1:50.000 - Imagery Layer</resTitle>
<presForm>
<PresFormCd Sync="TRUE" value="005"/>
</presForm>
</idCitation>
<spatRpType>
<SpatRepTypCd Sync="TRUE" value="002"/>
</spatRpType>
<dataExt>
<geoEle>
<GeoBndBox esriExtentType="search">
<exTypeCode Sync="TRUE">1</exTypeCode>
<westBL Sync="TRUE">9.483387</westBL>
<eastBL Sync="TRUE">17.173604</eastBL>
<northBL Sync="TRUE">49.001271</northBL>
<southBL Sync="TRUE">46.475880</southBL>
</GeoBndBox>
</geoEle>
</dataExt>
<idAbs>&lt;div&gt;&lt;div&gt;&lt;div&gt;The 50,000 map series is the heart of the systematic geological survey of the country. The scale often allows precise statements to be made about the geological conditions in the subsurface. The maps are therefore an important basis for answering all natural questions with a geological background. Engineers, planners and experts use these maps as an information basis for their expertise. The Geological Map of Austria 1:50,000 (GÖK 50) is the special map series from GeoSphere Austria. The legend precipitates are almost exclusively defined lithologically, based on certain types of rock. Further differentiation is often made based on the geological age of the rocks or the tectonic structure. In addition, the GÖK 50 provides a wealth of additional information on the location and course of tectonic interfaces (faults, thrusts, etc.) as well as the storage conditions of the rocks (spatial position of strata and foliation surfaces, fold axes, etc.). With the help of this information, it is also possible to develop ideas about the three-dimensional structure of the subsoil using the maps. Further map entries refer to raw material deposits, fossil discovery points, natural monuments with a geological connection, important drilling points and much more.&lt;/div&gt;&lt;div&gt;&lt;br /&gt;&lt;/div&gt;&lt;div&gt;The basic geological survey of the federal territory has not yet been completed and will take some time. The reason for this is, in addition to the constant refinement of methods, also the growing demands on the accuracy and diversity of geological information. The user group of this map series is made up of experts in a wide range of specialist areas: regardless of whether it is a project in spatial planning, water management, vegetation ecology, torrent and avalanche control, geotourism, the search for raw materials, the placement of a borehole or a construction project , one of the first questions that is always asked is: Is there a good, as modern as possible, geological map of the project area? The geological survey of the country is therefore an ongoing process in dialogue between applying and mapping geologists.&lt;/div&gt;&lt;/div&gt;&lt;div&gt;&lt;br /&gt;&lt;/div&gt;&lt;div&gt;&lt;div&gt;&lt;b&gt;Adresses of Services:&lt;/b&gt;&lt;/div&gt;&lt;div&gt;ESRI-REST: https://gis.geosphere.at/images/rest/services/geologie/karte_50/ImageServer&lt;/div&gt;&lt;div&gt;WMS: https://gis.geosphere.at/images/services/geologie/karte_50/ImageServer/WMSServer&lt;/div&gt;&lt;div&gt;WMTS: https://gis.geosphere.at/images/rest/services/geologie/karte_50/ImageServer/WMTS&lt;/div&gt;&lt;div&gt;&lt;br /&gt;&lt;/div&gt;&lt;div&gt;&lt;b&gt;External Ressources:&lt;/b&gt;&lt;div&gt;Tethys Research Data Repository https://www.tethys.at Tethys Research Data Repository &lt;div&gt;Geodatenkatalog https://gis.geologie.ac.at/geonetwork/srv/eng/catalog.search#/metadata/f83fbb41-0712-434c-95ee-506d4387a37b &lt;/div&gt;&lt;/div&gt;&lt;/div&gt;&lt;/div&gt;&lt;div&gt;&lt;br /&gt;&lt;/div&gt;&lt;div style='font-size:1.414rem;'&gt;Beschreibung&lt;/div&gt;&lt;div&gt;&lt;br /&gt;&lt;/div&gt;&lt;div&gt;Das 50.000er Kartenwerk ist das Herzstück der systematischen geologischen Landesaufnahme. Der Maßstab erlaubt vielfach eine punktgenaue Aussage über die geologischen Verhältnisse im Untergrund. Daher ist das Kartenwerk eine wichtige Grundlage für die Beantwortung aller naturräumlichen Fragen mit geologischem Hintergrund. Ingenieurinnen und Ingenieure, Planerinnen und Planer und Gutachterinnen und Gutachter greifen auf diese Karten als Informationsbasis für ihre Expertisen zurück.
Die Geologische Karte von Österreich 1:50.000 (GÖK 50) ist das Spezialkartenwerk der GeoSphere Austria. Die Legendenausscheidungen sind nahezu ausschließlich lithologisch, auf Basis bestimmter Gesteinsarten definiert. Eine weitere Differenzierung wird häufig auf Grund des erdgeschichtlichen Alters der Gesteine bzw. der tektonischen Gliederung vorgenommen.
Darüber hinaus liefert die GÖK 50 eine Fülle zusätzlicher Informationen zu Lage und Verlauf von tektonischen Grenzflächen (Störungen, Überschiebungen usw.) sowie den Lagerungsverhältnissen der Gesteine (Raumlage von Schicht- und Schieferungsflächen, Faltenachsen usw.). Mit Hilfe dieser Informationen ist es anhand der Karten auch möglich, Vorstellungen über den dreidimensionalen Bau des Untergrunds zu entwickeln. Weitere Karteneinträge beziehen sich auf Rohstoffvorkommen, Fossilfundpunkte, Naturdenkmale mit geologischem Bezug, wichtige Bohrpunkte und vieles mehr. &lt;/div&gt;&lt;div&gt;&lt;br /&gt;&lt;/div&gt;&lt;div&gt;Die geologische Basisaufnahme des Bundesgebietes ist noch nicht abgeschlossen und wird auch noch einige Zeit in Anspruch nehmen. Grund dafür ist neben der ständigen Verfeinerung der Methoden auch der wachsende Anspruch an die Genauigkeit und Vielfalt der geologischen Informationen. Denn der Nutzer:innenkreis dieses Kartenwerkes setzt sich aus Expertinnen und Experten für unterschiedlichste Fachgebiete zusammen: Egal ob es sich um ein Projekt der Raumplanung, der Wasserwirtschaft, Vegetationsökologie, Wildbach- und Lawinenverbauung, Geotouristik, Rohstoffsuche, die Platzierung einer Bohrung oder ein Bauprojekt handelt, eine der ersten Fragen, die gestellt werden, ist immer: Gibt es vom Projektgebiet eine gute, möglichst moderne, geologische Karte? Die geologische Landesaufnahme ist daher ein fortlaufender Prozess im Dialog zwischen anwendenden und kartierenden Geologinnen und Geologen.&lt;/div&gt;&lt;/div&gt;&lt;div&gt;&lt;br /&gt;&lt;/div&gt;&lt;div&gt;&lt;b&gt;Adressen der Services:&lt;/b&gt;&lt;/div&gt;&lt;div&gt;ESRI-REST: https://gis.geosphere.at/images/rest/services/geologie/karte_50/ImageServer&lt;/div&gt;&lt;div&gt;WMS: https://gis.geosphere.at/images/services/geologie/karte_50/ImageServer/WMSServer&lt;/div&gt;&lt;div&gt;WMTS: https://gis.geosphere.at/images/rest/services/geologie/karte_50/ImageServer/WMTS&lt;/div&gt;&lt;div&gt;&lt;br /&gt;&lt;/div&gt;&lt;div&gt;&lt;b&gt;Externe Ressourcen:&lt;/b&gt;&lt;div&gt;Tethys Research Data Repository https://www.tethys.at Tethys Research Data Repository &lt;div&gt;Geodatenkatalog https://gis.geologie.ac.at/geonetwork/srv/eng/catalog.search#/metadata/f83fbb41-0712-434c-95ee-506d4387a37b &lt;/div&gt;&lt;/div&gt;&lt;/div&gt;</idAbs>
<searchKeys>
<keyword>Geologie</keyword>
<keyword>Österreich</keyword>
<keyword>1:50.000</keyword>
<keyword>1:25.000</keyword>
<keyword>Austria</keyword>
<keyword>geology</keyword>
</searchKeys>
<idPurp>Gescannte geologische Karten in den Maßstäben 1:25.000 und 1:50.000</idPurp>
<idCredit>GeoSphere Austria</idCredit>
<resConst>
<Consts>
<useLimit>&lt;div&gt;&lt;div&gt;&lt;div&gt;GeoSphere Austria excludes any liability for the correctness, completeness or accuracy of the maps and data and assumes no liability of any kind. Furthermore, liability for consequential damages resulting from the improper and incorrect interpretation of the content is excluded.&lt;/div&gt;&lt;div&gt;&lt;br /&gt;&lt;/div&gt;&lt;/div&gt;&lt;div&gt;&lt;div&gt;The maps on which the service is based are scientific data and represent a generalized picture of near-surface geology. No legal claims can be derived from this. For detailed investigations and specific questions, separate data collection tailored to the respective task is required. &lt;/div&gt;&lt;div&gt;&lt;br /&gt;&lt;/div&gt;&lt;/div&gt;&lt;div&gt;©GeoSphere Austria / CC BY 4.0&lt;/div&gt;&lt;/div&gt;&lt;div&gt;&lt;br /&gt;&lt;/div&gt;&lt;div style='font-size:1.414rem;'&gt;Nutzungsbedingungen&lt;/div&gt;&lt;div&gt;&lt;br /&gt;&lt;/div&gt;&lt;div&gt;Für die inhaltliche Richtigkeit, Vollständigkeit oder für Fehlerfreiheit der Karten und Daten schließt die GeoSphere Austria eine Gewähr aus und übernimmt keine Haftung jeglicher Art. Des Weiteren ist die Haftung für Folgeschäden, die aus der unsachgemäßen und falschen Interpretation der Inhalte resultieren, ausgeschlossen.&lt;/div&gt;&lt;div&gt;&lt;br /&gt;&lt;/div&gt;&lt;div&gt;Die dem Service zugrundeliegenden Karten sind wissenschaftliche Daten und stellen ein generalisiertes Abbild der oberflächennahen Geologie dar. Es können keine rechtlichen Ansprüche daraus abgeleitet werden. Für detaillierte Untersuchungen und spezifische Fragestellungen sind eigene, auf die jeweilige Aufgabe zugeschnittene Datenerfassungen erforderlich. &lt;/div&gt;&lt;div&gt;&lt;br /&gt;&lt;/div&gt;&lt;div&gt;©GeoSphere Austria / CC BY 4.0&lt;/div&gt;</useLimit>
</Consts>
</resConst>
</dataIdInfo>
<mdLang>
<languageCode Sync="TRUE" value="deu"/>
<countryCode Sync="TRUE" value="DEU"/>
</mdLang>
<refSysInfo>
<RefSystem>
<refSysID>
<identCode Sync="TRUE" code="3857"/>
<idCodeSpace Sync="TRUE">EPSG</idCodeSpace>
<idVersion Sync="TRUE">6.18.3(9.3.1.2)</idVersion>
</refSysID>
</RefSystem>
</refSysInfo>
<spatRepInfo>
<Georect>
<cellGeo>
<CellGeoCd Sync="TRUE" value="002"/>
</cellGeo>
<numDims Sync="TRUE">2</numDims>
<tranParaAv Sync="TRUE">1</tranParaAv>
<chkPtAv Sync="TRUE">0</chkPtAv>
<cornerPts>
<pos Sync="TRUE">1055685.862487 5856940.102905</pos>
</cornerPts>
<cornerPts>
<pos Sync="TRUE">1055685.862487 6275077.102905</pos>
</cornerPts>
<cornerPts>
<pos Sync="TRUE">1911756.862487 6275077.102905</pos>
</cornerPts>
<cornerPts>
<pos Sync="TRUE">1911756.862487 5856940.102905</pos>
</cornerPts>
<centerPt>
<pos Sync="TRUE">1483721.362487 6066008.602905</pos>
</centerPt>
<axisDimension type="002">
<dimSize Sync="TRUE">285357</dimSize>
<dimResol>
<value Sync="TRUE" uom="m">3.000000</value>
</dimResol>
</axisDimension>
<axisDimension type="001">
<dimSize Sync="TRUE">139379</dimSize>
<dimResol>
<value Sync="TRUE" uom="m">3.000000</value>
</dimResol>
</axisDimension>
<ptInPixel>
<PixOrientCd Sync="TRUE" value="001"/>
</ptInPixel>
</Georect>
</spatRepInfo>
<contInfo>
<ImgDesc>
<contentTyp>
<ContentTypCd Sync="TRUE" value="001"/>
</contentTyp>
<covDim>
<Band>
<dimDescrp Sync="TRUE">Band_1</dimDescrp>
<maxVal Sync="TRUE">255.000000</maxVal>
<minVal Sync="TRUE">0.000000</minVal>
<bitsPerVal Sync="TRUE">8</bitsPerVal>
<valUnit>
<UOM type="length"/>
</valUnit>
</Band>
<Band>
<dimDescrp Sync="TRUE">Band_2</dimDescrp>
<maxVal Sync="TRUE">255.000000</maxVal>
<minVal Sync="TRUE">0.000000</minVal>
<bitsPerVal Sync="TRUE">8</bitsPerVal>
<valUnit>
<UOM type="length"/>
</valUnit>
</Band>
<Band>
<dimDescrp Sync="TRUE">Band_3</dimDescrp>
<maxVal Sync="TRUE">254.000000</maxVal>
<minVal Sync="TRUE">0.000000</minVal>
<bitsPerVal Sync="TRUE">8</bitsPerVal>
<valUnit>
<UOM type="length"/>
</valUnit>
</Band>
</covDim>
</ImgDesc>
</contInfo>
<mdDateSt Sync="TRUE">20230508</mdDateSt>
</metadata>
