{
 "currentVersion": 11.5,
 "serviceDescription": "Test/spartacus_v3_1d_1km",
 "serviceItemId": "094b0aeed21946c6a4f3fa62f2ab1d9e",
 "name": "Test/spartacus_v3_1d_1km",
 "description": "",
 "extent": {
  "xmin": 112000,
  "ymin": 258000,
  "xmax": 696000,
  "ymax": 587000,
  "spatialReference": {
   "wkt2": "PROJCRS[\"unnamed\",BASEGEOGCRS[\"GCS_unknown\",DATUM[\"D_unnamed\",ELLIPSOID[\"Spheroid\",6378137.0,298.257222101,LENGTHUNIT[\"Meter\",1.0]]],PRIMEM[\"Greenwich\",0.0,ANGLEUNIT[\"Degree\",0.0174532925199433]],CS[ellipsoidal,2],ANGLEUNIT[\"Degree\",0.0174532925199433]],CONVERSION[\"Lambert_Conformal_Conic\",METHOD[\"Lambert_Conformal_Conic\"],PARAMETER[\"False_Easting\",400000.0,LENGTHUNIT[\"Meter\",1.0]],PARAMETER[\"False_Northing\",400000.0,LENGTHUNIT[\"Meter\",1.0]],PARAMETER[\"Central_Meridian\",13.3333333333333,ANGLEUNIT[\"Degree\",0.0174532925199433]],PARAMETER[\"Standard_Parallel_1\",46.0,ANGLEUNIT[\"Degree\",0.0174532925199433]],PARAMETER[\"Standard_Parallel_2\",49.0,ANGLEUNIT[\"Degree\",0.0174532925199433]],PARAMETER[\"Latitude_Of_Origin\",47.5,ANGLEUNIT[\"Degree\",0.0174532925199433]]],CS[Cartesian,2],AXIS[\"Easting (X)\",east,ORDER[1]],AXIS[\"Northing (Y)\",north,ORDER[2]],LENGTHUNIT[\"Meter\",1.0]]",
   "wkt": "PROJCS[\"unnamed\",GEOGCS[\"GCS_unknown\",DATUM[\"D_unnamed\",SPHEROID[\"Spheroid\",6378137.0,298.257222101]],PRIMEM[\"Greenwich\",0.0],UNIT[\"Degree\",0.0174532925199433]],PROJECTION[\"Lambert_Conformal_Conic\"],PARAMETER[\"False_Easting\",400000.0],PARAMETER[\"False_Northing\",400000.0],PARAMETER[\"Central_Meridian\",13.3333333333333],PARAMETER[\"Standard_Parallel_1\",46.0],PARAMETER[\"Standard_Parallel_2\",49.0],PARAMETER[\"Latitude_Of_Origin\",47.5],UNIT[\"Meter\",1.0]]"
  }
 },
 "initialExtent": {
  "xmin": 112000,
  "ymin": 258000,
  "xmax": 696000,
  "ymax": 587000,
  "spatialReference": {
   "wkt2": "PROJCRS[\"unnamed\",BASEGEOGCRS[\"GCS_unknown\",DATUM[\"D_unnamed\",ELLIPSOID[\"Spheroid\",6378137.0,298.257222101,LENGTHUNIT[\"Meter\",1.0]]],PRIMEM[\"Greenwich\",0.0,ANGLEUNIT[\"Degree\",0.0174532925199433]],CS[ellipsoidal,2],ANGLEUNIT[\"Degree\",0.0174532925199433]],CONVERSION[\"Lambert_Conformal_Conic\",METHOD[\"Lambert_Conformal_Conic\"],PARAMETER[\"False_Easting\",400000.0,LENGTHUNIT[\"Meter\",1.0]],PARAMETER[\"False_Northing\",400000.0,LENGTHUNIT[\"Meter\",1.0]],PARAMETER[\"Central_Meridian\",13.3333333333333,ANGLEUNIT[\"Degree\",0.0174532925199433]],PARAMETER[\"Standard_Parallel_1\",46.0,ANGLEUNIT[\"Degree\",0.0174532925199433]],PARAMETER[\"Standard_Parallel_2\",49.0,ANGLEUNIT[\"Degree\",0.0174532925199433]],PARAMETER[\"Latitude_Of_Origin\",47.5,ANGLEUNIT[\"Degree\",0.0174532925199433]]],CS[Cartesian,2],AXIS[\"Easting (X)\",east,ORDER[1]],AXIS[\"Northing (Y)\",north,ORDER[2]],LENGTHUNIT[\"Meter\",1.0]]",
   "wkt": "PROJCS[\"unnamed\",GEOGCS[\"GCS_unknown\",DATUM[\"D_unnamed\",SPHEROID[\"Spheroid\",6378137.0,298.257222101]],PRIMEM[\"Greenwich\",0.0],UNIT[\"Degree\",0.0174532925199433]],PROJECTION[\"Lambert_Conformal_Conic\"],PARAMETER[\"False_Easting\",400000.0],PARAMETER[\"False_Northing\",400000.0],PARAMETER[\"Central_Meridian\",13.3333333333333],PARAMETER[\"Standard_Parallel_1\",46.0],PARAMETER[\"Standard_Parallel_2\",49.0],PARAMETER[\"Latitude_Of_Origin\",47.5],UNIT[\"Meter\",1.0]]"
  }
 },
 "fullExtent": {
  "xmin": 112000,
  "ymin": 258000,
  "xmax": 696000,
  "ymax": 587000,
  "spatialReference": {
   "wkt2": "PROJCRS[\"unnamed\",BASEGEOGCRS[\"GCS_unknown\",DATUM[\"D_unnamed\",ELLIPSOID[\"Spheroid\",6378137.0,298.257222101,LENGTHUNIT[\"Meter\",1.0]]],PRIMEM[\"Greenwich\",0.0,ANGLEUNIT[\"Degree\",0.0174532925199433]],CS[ellipsoidal,2],ANGLEUNIT[\"Degree\",0.0174532925199433]],CONVERSION[\"Lambert_Conformal_Conic\",METHOD[\"Lambert_Conformal_Conic\"],PARAMETER[\"False_Easting\",400000.0,LENGTHUNIT[\"Meter\",1.0]],PARAMETER[\"False_Northing\",400000.0,LENGTHUNIT[\"Meter\",1.0]],PARAMETER[\"Central_Meridian\",13.3333333333333,ANGLEUNIT[\"Degree\",0.0174532925199433]],PARAMETER[\"Standard_Parallel_1\",46.0,ANGLEUNIT[\"Degree\",0.0174532925199433]],PARAMETER[\"Standard_Parallel_2\",49.0,ANGLEUNIT[\"Degree\",0.0174532925199433]],PARAMETER[\"Latitude_Of_Origin\",47.5,ANGLEUNIT[\"Degree\",0.0174532925199433]]],CS[Cartesian,2],AXIS[\"Easting (X)\",east,ORDER[1]],AXIS[\"Northing (Y)\",north,ORDER[2]],LENGTHUNIT[\"Meter\",1.0]]",
   "wkt": "PROJCS[\"unnamed\",GEOGCS[\"GCS_unknown\",DATUM[\"D_unnamed\",SPHEROID[\"Spheroid\",6378137.0,298.257222101]],PRIMEM[\"Greenwich\",0.0],UNIT[\"Degree\",0.0174532925199433]],PROJECTION[\"Lambert_Conformal_Conic\"],PARAMETER[\"False_Easting\",400000.0],PARAMETER[\"False_Northing\",400000.0],PARAMETER[\"Central_Meridian\",13.3333333333333],PARAMETER[\"Standard_Parallel_1\",46.0],PARAMETER[\"Standard_Parallel_2\",49.0],PARAMETER[\"Latitude_Of_Origin\",47.5],UNIT[\"Meter\",1.0]]"
  }
 },
 "sortableFields": "",
 "bandCount": 1,
 "pixelType": "F32",
 "minValues": [],
 "maxValues": [],
 "meanValues": [],
 "stdvValues": [],
 "serviceProperties": "Center<\/MosaicMethod>First<\/MosaicOperator>true<\/SortAscending><\/LockImageID><\/TileOrderField>0<\/TileOrderBase>600,000000<\/AvgImageSpacingX>300,000000<\/AvgImageSpacingY>0.0<\/ViewPointX>0.0<\/ViewPointY>0.0<\/ViewPointDefShiftX>0.0<\/ViewPointDefShiftY>None<\/CompressionMethod>75<\/CompressionQuality>0,010000<\/CompressionTolerance>Bilinear<\/SamplingMethod><\/ImageServiceProperties><\/ImageServer>",
 "allowedFields": "",
 "hasMultidimensions": true,
 "timeInfo": {
  "startTimeField": "StdTime",
  "endTimeField": "StdTime",
  "timeExtent": [
   1782864000000,
   1784505600000
  ],
  "timeReference": null,
  "defaultTimeInterval": 1,
  "defaultTimeIntervalUnits": "esriTimeUnitsDays"
 },
 "pixelSizeX": 1000,
 "pixelSizeY": 1000,
 "meanPixelSize": 1000,
 "datasetFormat": "AFR",
 "uncompressedSize": 768544,
 "blockWidth": 512,
 "blockHeight": 1,
 "compressionType": "None",
 "bandNames": [
  "Band_1"
 ],
 "allowCopy": true,
 "allowAnalysis": true,
 "itemAccess": false,
 "defaultVariable": "",
 "inspectionCapabilities": "",
 "noDataValue": -999,
 "noDataValues": [
  -999
 ],
 "minPixelSize": 0,
 "maxPixelSize": 0,
 "copyrightText": "",
 "serviceDataType": "esriImageServiceDataTypeScientific",
 "serviceSourceType": "esriImageServiceSourceTypeDataset",
 "objectIdField": "",
 "fields": [],
 "capabilities": "Mensuration,Image,Metadata",
 "defaultMosaicMethod": "Center",
 "allowedMosaicMethods": "",
 "sortField": "",
 "sortValue": null,
 "sortAscending": true,
 "mosaicOperator": "First",
 "maxDownloadSizeLimit": 0,
 "defaultCompressionQuality": 75,
 "defaultResamplingMethod": "Bilinear",
 "maxImageHeight": 4100,
 "maxImageWidth": 15000,
 "maxRecordCount": 1000,
 "maxDownloadImageCount": 20,
 "maxMosaicImageCount": 20,
 "allowRasterFunction": true,
 "rasterFunctionInfos": [
  {
   "name": "None",
   "description": "",
   "help": ""
  }
 ],
 "rasterTypeInfos": [
  {
   "name": "Raster Dataset",
   "description": "Supports all ArcGIS Raster Datasets",
   "help": ""
  }
 ],
 "mensurationCapabilities": "Basic",
 "hasHistograms": false,
 "hasColormap": false,
 "hasRasterAttributeTable": false,
 "minScale": 0,
 "maxScale": 0,
 "exportTilesAllowed": false,
 "supportsStatistics": false,
 "supportsAdvancedQueries": false,
 "editFieldsInfo": null,
 "ownershipBasedAccessControlForRasters": null,
 "allowComputeTiePoints": false,
 "useStandardizedQueries": true,
 "advancedQueryCapabilities": {
  "useStandardizedQueries": true,
  "supportsStatistics": false,
  "supportsOrderBy": false,
  "supportsDistinct": false,
  "supportsPagination": false
 },
 "spatialReference": {
  "wkt2": "PROJCRS[\"unnamed\",BASEGEOGCRS[\"GCS_unknown\",DATUM[\"D_unnamed\",ELLIPSOID[\"Spheroid\",6378137.0,298.257222101,LENGTHUNIT[\"Meter\",1.0]]],PRIMEM[\"Greenwich\",0.0,ANGLEUNIT[\"Degree\",0.0174532925199433]],CS[ellipsoidal,2],ANGLEUNIT[\"Degree\",0.0174532925199433]],CONVERSION[\"Lambert_Conformal_Conic\",METHOD[\"Lambert_Conformal_Conic\"],PARAMETER[\"False_Easting\",400000.0,LENGTHUNIT[\"Meter\",1.0]],PARAMETER[\"False_Northing\",400000.0,LENGTHUNIT[\"Meter\",1.0]],PARAMETER[\"Central_Meridian\",13.3333333333333,ANGLEUNIT[\"Degree\",0.0174532925199433]],PARAMETER[\"Standard_Parallel_1\",46.0,ANGLEUNIT[\"Degree\",0.0174532925199433]],PARAMETER[\"Standard_Parallel_2\",49.0,ANGLEUNIT[\"Degree\",0.0174532925199433]],PARAMETER[\"Latitude_Of_Origin\",47.5,ANGLEUNIT[\"Degree\",0.0174532925199433]]],CS[Cartesian,2],AXIS[\"Easting (X)\",east,ORDER[1]],AXIS[\"Northing (Y)\",north,ORDER[2]],LENGTHUNIT[\"Meter\",1.0]]",
  "wkt": "PROJCS[\"unnamed\",GEOGCS[\"GCS_unknown\",DATUM[\"D_unnamed\",SPHEROID[\"Spheroid\",6378137.0,298.257222101]],PRIMEM[\"Greenwich\",0.0],UNIT[\"Degree\",0.0174532925199433]],PROJECTION[\"Lambert_Conformal_Conic\"],PARAMETER[\"False_Easting\",400000.0],PARAMETER[\"False_Northing\",400000.0],PARAMETER[\"Central_Meridian\",13.3333333333333],PARAMETER[\"Standard_Parallel_1\",46.0],PARAMETER[\"Standard_Parallel_2\",49.0],PARAMETER[\"Latitude_Of_Origin\",47.5],UNIT[\"Meter\",1.0]]"
 },
 "resampling": false
}
